BEGIN:VCALENDAR
VERSION:2.0
PRODID:SchoolNow
CALSCALE:GREGORIAN
BEGIN:VEVENT
UID:b6c0ad9c-ea84-11f0-bb58-0a58a9feac02
DTSTAMP:20260421T211013Z
SUMMARY:SV Basketball game
URL;VALUE=URI:https://www.lahabraschools.org/sierravista/calendar/8829366/s
 v-basketball-game
DTSTART:20260107T224500Z
DTEND:20260108T000000Z
END:VEVENT
END:VCALENDAR
