BEGIN:VCALENDAR
VERSION:2.0
PRODID:SchoolNow
CALSCALE:GREGORIAN
BEGIN:VEVENT
UID:b6c0b2c4-ea84-11f0-9145-0a58a9feac02
DTSTAMP:20260421T211013Z
SUMMARY:Nest - Internet Safety
URL;VALUE=URI:https://www.lahabraschools.org/sierravista/calendar/8829367/n
 est-internet-safety
DTSTART:20260212T180000Z
DTEND:20260212T190000Z
END:VEVENT
END:VCALENDAR
