BEGIN:VCALENDAR
VERSION:2.0
PRODID:SchoolNow
CALSCALE:GREGORIAN
BEGIN:VEVENT
UID:abc19c9a-eb50-11f0-99f6-0a58a9feac02
DTSTAMP:20260421T211013Z
SUMMARY:Bring your own mug club
URL;VALUE=URI:https://www.lahabraschools.org/sierravista/calendar/8832021/b
 ring-your-own-mug-club
DTSTART:20260128T164500Z
DTEND:20260128T174500Z
END:VEVENT
END:VCALENDAR
