BEGIN:VCALENDAR
VERSION:2.0
PRODID:SchoolNow
CALSCALE:GREGORIAN
BEGIN:VEVENT
UID:abc1a0be-eb50-11f0-9796-0a58a9feac02
DTSTAMP:20260421T211013Z
SUMMARY:PTA Meeting
URL;VALUE=URI:https://www.lahabraschools.org/sierravista/calendar/8832022/p
 ta-meeting
DTSTART:20260128T023000Z
DTEND:20260128T033000Z
END:VEVENT
END:VCALENDAR
