BEGIN:VCALENDAR
VERSION:2.0
PRODID:SchoolNow
CALSCALE:GREGORIAN
BEGIN:VEVENT
UID:abc1a212-eb50-11f0-9964-0a58a9feac02
DTSTAMP:20260421T211013Z
SUMMARY:Bring your own mug club
URL;VALUE=URI:https://www.lahabraschools.org/sierravista/calendar/8832023/b
 ring-your-own-mug-club
DTSTART:20260113T174000Z
DTEND:20260113T184000Z
END:VEVENT
END:VCALENDAR
