BEGIN:VCALENDAR
VERSION:2.0
PRODID:SchoolNow
CALSCALE:GREGORIAN
BEGIN:VEVENT
UID:abc1a6a4-eb50-11f0-8e3c-0a58a9feac02
DTSTAMP:20260421T211013Z
SUMMARY:District Spelling Bee
LOCATION:Washington Middle School\, 716 E La Habra Blvd\, La Habra\, CA 906
 31\, USA
URL;VALUE=URI:https://www.lahabraschools.org/sierravista/calendar/8832024/d
 istrict-spelling-bee
DTSTART:20260129T010000Z
DTEND:20260129T030000Z
END:VEVENT
END:VCALENDAR
