BEGIN:VCALENDAR
VERSION:2.0
PRODID:SchoolNow
CALSCALE:GREGORIAN
BEGIN:VEVENT
UID:abf4fd10-eb50-11f0-9233-0a58a9feac02
DTSTAMP:20260421T150515Z
SUMMARY:Sonora Farm TK/K fieldtrip
URL;VALUE=URI:https://www.lahabraschools.org/sierravista/calendar/8832025/s
 onora-farm-tk-k-fieldtrip
DTSTART:20260311T160000Z
DTEND:20260311T180000Z
END:VEVENT
END:VCALENDAR
