BEGIN:VCALENDAR
VERSION:2.0
PRODID:SchoolNow
CALSCALE:GREGORIAN
BEGIN:VEVENT
UID:abf5033c-eb50-11f0-bbdb-0a58a9feac02
DTSTAMP:20260421T211013Z
SUMMARY:Conversation Circle with the Liaison (Stress Awareness)
LOCATION:https://lahabraschools.zoom.us/j/86459505006
URL;VALUE=URI:https://www.lahabraschools.org/sierravista/calendar/8832027/c
 onversation-circle-with-the-liaison-stress-awareness
DTSTART:20260122T173000Z
DTEND:20260122T193000Z
END:VEVENT
END:VCALENDAR
