BEGIN:VCALENDAR
VERSION:2.0
PRODID:SchoolNow
CALSCALE:GREGORIAN
BEGIN:VEVENT
UID:a918120c-eb83-11f0-97dc-0a58a9feac02
DTSTAMP:20260421T211013Z
SUMMARY:Signing Day at SV for 26-27 enrollment
URL;VALUE=URI:https://www.lahabraschools.org/sierravista/calendar/8832215/s
 igning-day-at-sv-for-26-27-enrollment
DTSTART;VALUE=DATE:20260115
DTEND;VALUE=DATE:20260116
END:VEVENT
END:VCALENDAR
