BEGIN:VCALENDAR
VERSION:2.0
PRODID:SchoolNow
CALSCALE:GREGORIAN
BEGIN:VEVENT
UID:96c0c05c-ece8-11f0-8ba5-0a58a9feac02
DTSTAMP:20260421T150515Z
SUMMARY:Nest - Home Safety
URL;VALUE=URI:https://www.lahabraschools.org/sierravista/calendar/8832982/n
 est-home-safety
DTSTART:20260423T000000Z
DTEND:20260423T010000Z
END:VEVENT
END:VCALENDAR
