BEGIN:VCALENDAR
VERSION:2.0
PRODID:SchoolNow
CALSCALE:GREGORIAN
BEGIN:VEVENT
UID:9701d8da-ece8-11f0-85cd-0a58a9feac02
DTSTAMP:20260421T150515Z
SUMMARY:Nest - Bullying
URL;VALUE=URI:https://www.lahabraschools.org/sierravista/calendar/8832984/n
 est-bullying
DTSTART:20260303T170000Z
DTEND:20260303T180000Z
END:VEVENT
END:VCALENDAR
