BEGIN:VCALENDAR
VERSION:2.0
PRODID:SchoolNow
CALSCALE:GREGORIAN
BEGIN:VEVENT
UID:609f3232-f117-11f0-9bc8-0a58a9feac02
DTSTAMP:20260421T211013Z
SUMMARY:SV basketball games against Ladera Palma
URL;VALUE=URI:https://www.lahabraschools.org/sierravista/calendar/8836005/s
 v-basketball-games-against-ladera-palma
DTSTART:20260225T223000Z
DTEND:20260226T000000Z
END:VEVENT
END:VCALENDAR
