BEGIN:VCALENDAR
VERSION:2.0
PRODID:SchoolNow
CALSCALE:GREGORIAN
BEGIN:VEVENT
UID:609f55e6-f117-11f0-8f44-0a58a9feac02
DTSTAMP:20260421T211013Z
SUMMARY:SV basketball games against Las Lomas
URL;VALUE=URI:https://www.lahabraschools.org/sierravista/calendar/8836008/s
 v-basketball-games-against-las-lomas
DTSTART:20260211T223000Z
DTEND:20260212T000000Z
END:VEVENT
END:VCALENDAR
