BEGIN:VCALENDAR
VERSION:2.0
PRODID:SchoolNow
CALSCALE:GREGORIAN
BEGIN:VEVENT
UID:609f5974-f117-11f0-baeb-0a58a9feac02
DTSTAMP:20260421T211013Z
SUMMARY:SV basketball games against Las Positas
URL;VALUE=URI:https://www.lahabraschools.org/sierravista/calendar/8836010/s
 v-basketball-games-against-las-positas
DTSTART:20260218T223000Z
DTEND:20260219T000000Z
END:VEVENT
END:VCALENDAR
