BEGIN:VCALENDAR
VERSION:2.0
PRODID:SchoolNow
CALSCALE:GREGORIAN
BEGIN:VEVENT
UID:609f5b54-f117-11f0-951f-0a58a9feac02
DTSTAMP:20260421T150515Z
SUMMARY:BYE- Sierra Vista basketball
URL;VALUE=URI:https://www.lahabraschools.org/sierravista/calendar/8836011/b
 ye-sierra-vista-basketball
DTSTART:20260304T223000Z
DTEND:20260304T233000Z
END:VEVENT
END:VCALENDAR
