BEGIN:VCALENDAR
VERSION:2.0
PRODID:SchoolNow
CALSCALE:GREGORIAN
BEGIN:VEVENT
UID:609f5d3e-f117-11f0-91a7-0a58a9feac02
DTSTAMP:20260421T150515Z
SUMMARY:Basketball Playoffs
URL;VALUE=URI:https://www.lahabraschools.org/sierravista/calendar/8836012/b
 asketball-playoffs
DTSTART;VALUE=DATE:20260307
DTEND;VALUE=DATE:20260308
END:VEVENT
END:VCALENDAR
