BEGIN:VCALENDAR
VERSION:2.0
PRODID:SchoolNow
CALSCALE:GREGORIAN
BEGIN:VEVENT
UID:4bf79768-f2af-11f0-8b2c-0a58a9feac02
DTSTAMP:20260421T211013Z
SUMMARY:Registration of Epic Season 3 opens
URL;VALUE=URI:https://www.lahabraschools.org/sierravista/calendar/8836902/r
 egistration-of-epic-season-3-opens
DTSTART;VALUE=DATE:20260217
DTEND;VALUE=DATE:20260218
END:VEVENT
END:VCALENDAR
