BEGIN:VCALENDAR
VERSION:2.0
PRODID:SchoolNow
CALSCALE:GREGORIAN
BEGIN:VEVENT
UID:4bf7b982-f2af-11f0-b07b-0a58a9feac02
DTSTAMP:20260421T211013Z
SUMMARY:Last day for Epic Season 3 registration
URL;VALUE=URI:https://www.lahabraschools.org/sierravista/calendar/8836903/l
 ast-day-for-epic-season-3-registration
DTSTART;VALUE=DATE:20260227
DTEND;VALUE=DATE:20260228
END:VEVENT
END:VCALENDAR
