BEGIN:VCALENDAR
VERSION:2.0
PRODID:SchoolNow
CALSCALE:GREGORIAN
BEGIN:VEVENT
UID:4bf7bc16-f2af-11f0-b131-0a58a9feac02
DTSTAMP:20260421T150515Z
SUMMARY:Read Across American Week
URL;VALUE=URI:https://www.lahabraschools.org/sierravista/calendar/8836904/r
 ead-across-american-week
DTSTART;VALUE=DATE:20260302
DTEND;VALUE=DATE:20260307
END:VEVENT
END:VCALENDAR
