BEGIN:VCALENDAR
VERSION:2.0
PRODID:SchoolNow
CALSCALE:GREGORIAN
BEGIN:VEVENT
UID:1eda0844-f645-11f0-a2bd-0e2ba3c0cccb
DTSTAMP:20260421T211013Z
SUMMARY:Volunteer orientation 2
LOCATION:https://lahabraschools.zoom.us/j/88607519778
URL;VALUE=URI:https://www.lahabraschools.org/sierravista/calendar/8838266/v
 olunteer-orientation-2
DTSTART:20260128T193000Z
DTEND:20260128T200000Z
END:VEVENT
END:VCALENDAR
