BEGIN:VCALENDAR
VERSION:2.0
PRODID:SchoolNow
CALSCALE:GREGORIAN
BEGIN:VEVENT
UID:1eda308a-f645-11f0-9caf-0e2ba3c0cccb
DTSTAMP:20260421T150514Z
SUMMARY:La Habra 5k race
URL;VALUE=URI:https://www.lahabraschools.org/sierravista/calendar/8838267/l
 a-habra-5k-race
DTSTART;VALUE=DATE:20260314
DTEND;VALUE=DATE:20260315
END:VEVENT
END:VCALENDAR
