BEGIN:VCALENDAR
VERSION:2.0
PRODID:SchoolNow
CALSCALE:GREGORIAN
BEGIN:VEVENT
UID:1f6b1172-f645-11f0-b2bc-0e2ba3c0cccb
DTSTAMP:20260421T211013Z
SUMMARY:Volunteer orientation
LOCATION:https://lahabraschools.zoom.us/j/87866566424
URL;VALUE=URI:https://www.lahabraschools.org/sierravista/calendar/8838268/v
 olunteer-orientation
DTSTART:20260121T173000Z
DTEND:20260121T180000Z
END:VEVENT
END:VCALENDAR
