BEGIN:VCALENDAR
VERSION:2.0
PRODID:SchoolNow
CALSCALE:GREGORIAN
BEGIN:VEVENT
UID:134525be-f711-11f0-9793-0a58a9feac02
DTSTAMP:20260421T211013Z
SUMMARY:HOTM- blood oranges
URL;VALUE=URI:https://www.lahabraschools.org/sierravista/calendar/8838961/h
 otm-blood-oranges
DTSTART;VALUE=DATE:20260128
DTEND;VALUE=DATE:20260129
END:VEVENT
END:VCALENDAR
