BEGIN:VCALENDAR
VERSION:2.0
PRODID:SchoolNow
CALSCALE:GREGORIAN
BEGIN:VEVENT
UID:10b7e786-f744-11f0-964d-0a58a9feac02
DTSTAMP:20260421T211013Z
SUMMARY:Transfer application window opens
URL;VALUE=URI:https://www.lahabraschools.org/sierravista/calendar/8839153/t
 ransfer-application-window-opens
DTSTART;VALUE=DATE:20260126
DTEND;VALUE=DATE:20260127
END:VEVENT
END:VCALENDAR
