BEGIN:VCALENDAR
VERSION:2.0
PRODID:SchoolNow
CALSCALE:GREGORIAN
BEGIN:VEVENT
UID:10b7f21c-f744-11f0-96f0-0a58a9feac02
DTSTAMP:20260421T211013Z
SUMMARY:PAC Meeting
URL;VALUE=URI:https://www.lahabraschools.org/sierravista/calendar/8839154/p
 ac-meeting
DTSTART:20260128T170000Z
DTEND:20260128T183000Z
END:VEVENT
END:VCALENDAR
