BEGIN:VCALENDAR
VERSION:2.0
PRODID:SchoolNow
CALSCALE:GREGORIAN
BEGIN:VEVENT
UID:c5e1423e-fd3d-11f0-a539-029be0e368ed
DTSTAMP:20260421T211013Z
SUMMARY:Valentines Photo Days - NEU Scholarship Fundraiser
URL;VALUE=URI:https://www.lahabraschools.org/sierravista/calendar/8846555/v
 alentines-photo-days-neu-scholarship-fundraiser
DTSTART;VALUE=DATE:20260212
DTEND;VALUE=DATE:20260214
END:VEVENT
END:VCALENDAR
