BEGIN:VCALENDAR
VERSION:2.0
PRODID:SchoolNow
CALSCALE:GREGORIAN
BEGIN:VEVENT
UID:c32d9ed8-fd70-11f0-a765-0a58a9feac02
DTSTAMP:20260421T211013Z
SUMMARY:Bring your own mug club
URL;VALUE=URI:https://www.lahabraschools.org/sierravista/calendar/8846753/b
 ring-your-own-mug-club
DTSTART:20260205T164500Z
DTEND:20260205T174500Z
END:VEVENT
END:VCALENDAR
