BEGIN:VCALENDAR
VERSION:2.0
PRODID:SchoolNow
CALSCALE:GREGORIAN
BEGIN:VEVENT
UID:bf58a20c-fda3-11f0-890f-0a58a9feac02
DTSTAMP:20260421T211013Z
SUMMARY:Book Fair
URL;VALUE=URI:https://www.lahabraschools.org/sierravista/calendar/8846834/b
 ook-fair
DTSTART;VALUE=DATE:20260202
DTEND;VALUE=DATE:20260207
END:VEVENT
END:VCALENDAR
