BEGIN:VCALENDAR
VERSION:2.0
PRODID:SchoolNow
CALSCALE:GREGORIAN
BEGIN:VEVENT
UID:8ca77a6e-016c-11f1-9621-0a58a9feac02
DTSTAMP:20260421T211013Z
SUMMARY:SSC meeting via zoom
URL;VALUE=URI:https://www.lahabraschools.org/sierravista/calendar/8849065/s
 sc-meeting-via-zoom
DTSTART:20260217T231500Z
DTEND:20260218T001500Z
END:VEVENT
END:VCALENDAR
