BEGIN:VCALENDAR
VERSION:2.0
PRODID:SchoolNow
CALSCALE:GREGORIAN
BEGIN:VEVENT
UID:8ca79c38-016c-11f1-8cbe-0a58a9feac02
DTSTAMP:20260421T211013Z
SUMMARY:2nd grade fieldtrip to Mt.Sac- inside the outdoors
URL;VALUE=URI:https://www.lahabraschools.org/sierravista/calendar/8849066/2
 nd-grade-fieldtrip-to-mt-sac-inside-the-outdoors
DTSTART;VALUE=DATE:20260223
DTEND;VALUE=DATE:20260224
END:VEVENT
END:VCALENDAR
