BEGIN:VCALENDAR
VERSION:2.0
PRODID:SchoolNow
CALSCALE:GREGORIAN
BEGIN:VEVENT
UID:8ca79e40-016c-11f1-9194-0a58a9feac02
DTSTAMP:20260421T211013Z
SUMMARY:6th grade fieldtrip- 206 and 205 - bowers museum
URL;VALUE=URI:https://www.lahabraschools.org/sierravista/calendar/8849067/6
 th-grade-fieldtrip-206-and-205-bowers-museum
DTSTART;VALUE=DATE:20260217
DTEND;VALUE=DATE:20260218
END:VEVENT
END:VCALENDAR
