BEGIN:VCALENDAR
VERSION:2.0
PRODID:SchoolNow
CALSCALE:GREGORIAN
BEGIN:VEVENT
UID:8ca79f8a-016c-11f1-a55b-0a58a9feac02
DTSTAMP:20260421T211013Z
SUMMARY:4th grade fieldtrip to Honda center
URL;VALUE=URI:https://www.lahabraschools.org/sierravista/calendar/8849068/4
 th-grade-fieldtrip-to-honda-center
DTSTART;VALUE=DATE:20260226
DTEND;VALUE=DATE:20260227
END:VEVENT
END:VCALENDAR
