BEGIN:VCALENDAR
VERSION:2.0
PRODID:SchoolNow
CALSCALE:GREGORIAN
BEGIN:VEVENT
UID:8ca7a520-016c-11f1-bd12-0a58a9feac02
DTSTAMP:20260421T211013Z
SUMMARY:Fieldtrip for Aranda and 1st- Santa Ana zoo
URL;VALUE=URI:https://www.lahabraschools.org/sierravista/calendar/8849069/f
 ieldtrip-for-aranda-and-1st-santa-ana-zoo
DTSTART;VALUE=DATE:20260219
DTEND;VALUE=DATE:20260220
END:VEVENT
END:VCALENDAR
