BEGIN:VCALENDAR
VERSION:2.0
PRODID:SchoolNow
CALSCALE:GREGORIAN
BEGIN:VEVENT
UID:8cf98b38-016c-11f1-b7c7-0a58a9feac02
DTSTAMP:20260421T211013Z
SUMMARY:6th grade fieldtrip- bowers- szary and vera
URL;VALUE=URI:https://www.lahabraschools.org/sierravista/calendar/8849070/6
 th-grade-fieldtrip-bowers-szary-and-vera
DTSTART;VALUE=DATE:20260219
DTEND;VALUE=DATE:20260220
END:VEVENT
END:VCALENDAR
