BEGIN:VCALENDAR
VERSION:2.0
PRODID:SchoolNow
CALSCALE:GREGORIAN
BEGIN:VEVENT
UID:0f6be988-0afc-11f1-8d44-0a58a9feac02
DTSTAMP:20260421T150514Z
SUMMARY:Family science night
URL;VALUE=URI:https://www.lahabraschools.org/sierravista/calendar/8856764/f
 amily-science-night
DTSTART:20260305T020000Z
DTEND:20260305T030000Z
END:VEVENT
END:VCALENDAR
