BEGIN:VCALENDAR
VERSION:2.0
PRODID:SchoolNow
CALSCALE:GREGORIAN
BEGIN:VEVENT
UID:0f9b2090-0afc-11f1-856b-0a58a9feac02
DTSTAMP:20260421T150515Z
SUMMARY:END of AHA fundraiser
URL;VALUE=URI:https://www.lahabraschools.org/sierravista/calendar/8856765/e
 nd-of-aha-fundraiser
DTSTART;VALUE=DATE:20260306
DTEND;VALUE=DATE:20260307
END:VEVENT
END:VCALENDAR
