BEGIN:VCALENDAR
VERSION:2.0
PRODID:SchoolNow
CALSCALE:GREGORIAN
BEGIN:VEVENT
UID:09f333dc-0b95-11f1-a2a3-02d010fc849b
DTSTAMP:20260421T150515Z
SUMMARY:SPED parent training at DO
URL;VALUE=URI:https://www.lahabraschools.org/sierravista/calendar/8857251/s
 ped-parent-training-at-do
DTSTART:20260326T163000Z
DTEND:20260326T173000Z
END:VEVENT
END:VCALENDAR
