BEGIN:VCALENDAR
VERSION:2.0
PRODID:SchoolNow
CALSCALE:GREGORIAN
BEGIN:VEVENT
UID:e65ae5f2-0e2b-11f1-93c4-0a58a9feac02
DTSTAMP:20260421T211013Z
SUMMARY:Conversation Circle -Stress Awareness
LOCATION:https://lahabraschools.zoom.us/j/87221112151
URL;VALUE=URI:https://www.lahabraschools.org/sierravista/calendar/8861558/c
 onversation-circle-stress-awareness
DTSTART:20260224T183000Z
DTEND:20260224T200000Z
ATTACH;FILENAME=conversation circle Stress awareness 2026.pdf;FMTTYPE=appli
 cation/pdf:https://drive.google.com/open?id=13Um5GFdqLWHpOuyUN9EhBl2eyegji
 viO
END:VEVENT
END:VCALENDAR
