BEGIN:VCALENDAR
VERSION:2.0
PRODID:SchoolNow
CALSCALE:GREGORIAN
BEGIN:VEVENT
UID:c834fd88-1128-11f1-88bb-0a58a9feac02
DTSTAMP:20260421T150514Z
SUMMARY:Daylight Saving Time starts
URL;VALUE=URI:https://www.lahabraschools.org/sierravista/calendar/8867871/d
 aylight-saving-time-starts
DTSTART;VALUE=DATE:20260308
DTEND;VALUE=DATE:20260309
END:VEVENT
END:VCALENDAR
