BEGIN:VCALENDAR
VERSION:2.0
PRODID:SchoolNow
CALSCALE:GREGORIAN
BEGIN:VEVENT
UID:c83500da-1128-11f1-aae2-0a58a9feac02
DTSTAMP:20260421T150515Z
SUMMARY:Walnut Mobile Food Pantry -  - 9:45 am - 10:45 am
URL;VALUE=URI:https://www.lahabraschools.org/sierravista/calendar/8867872/w
 alnut-mobile-food-pantry-9-45-am-10-45-am
DTSTART:20260306T174500Z
DTEND:20260306T184500Z
END:VEVENT
END:VCALENDAR
