BEGIN:VCALENDAR
VERSION:2.0
PRODID:SchoolNow
CALSCALE:GREGORIAN
BEGIN:VEVENT
UID:c83502f6-1128-11f1-9692-0a58a9feac02
DTSTAMP:20260421T150514Z
SUMMARY:PTA Kick off fundraiser assembly
URL;VALUE=URI:https://www.lahabraschools.org/sierravista/calendar/8867873/p
 ta-kick-off-fundraiser-assembly
DTSTART:20260325T153000Z
DTEND:20260325T183000Z
END:VEVENT
END:VCALENDAR
