BEGIN:VCALENDAR
VERSION:2.0
PRODID:SchoolNow
CALSCALE:GREGORIAN
BEGIN:VEVENT
UID:c83506a2-1128-11f1-94ed-0a58a9feac02
DTSTAMP:20260421T150515Z
SUMMARY:Coffee with the Principal - ELPAC
URL;VALUE=URI:https://www.lahabraschools.org/sierravista/calendar/8867875/c
 offee-with-the-principal-elpac
DTSTART:20260305T173000Z
DTEND:20260305T180000Z
END:VEVENT
END:VCALENDAR
