BEGIN:VCALENDAR
VERSION:2.0
PRODID:SchoolNow
CALSCALE:GREGORIAN
BEGIN:VEVENT
UID:c8350a26-1128-11f1-8ea8-0a58a9feac02
DTSTAMP:20260421T150515Z
SUMMARY:Nest - Bullying
URL;VALUE=URI:https://www.lahabraschools.org/sierravista/calendar/8867876/n
 est-bullying
DTSTART:20260304T010000Z
DTEND:20260304T020000Z
END:VEVENT
END:VCALENDAR
