BEGIN:VCALENDAR
VERSION:2.0
PRODID:SchoolNow
CALSCALE:GREGORIAN
BEGIN:VEVENT
UID:c8350b66-1128-11f1-947b-0a58a9feac02
DTSTAMP:20260421T150514Z
SUMMARY:Mc Donalds PTA fundraiser
URL;VALUE=URI:https://www.lahabraschools.org/sierravista/calendar/8867877/m
 c-donalds-pta-fundraiser
DTSTART:20260312T233000Z
DTEND:20260313T023000Z
END:VEVENT
END:VCALENDAR
