BEGIN:VCALENDAR
VERSION:2.0
PRODID:SchoolNow
CALSCALE:GREGORIAN
BEGIN:VEVENT
UID:c8350d3c-1128-11f1-ad28-0a58a9feac02
DTSTAMP:20260421T150515Z
SUMMARY:SSC meeting via zoom
URL;VALUE=URI:https://www.lahabraschools.org/sierravista/calendar/8867878/s
 sc-meeting-via-zoom
DTSTART:20260323T221500Z
DTEND:20260323T231500Z
END:VEVENT
END:VCALENDAR
