BEGIN:VCALENDAR
VERSION:2.0
PRODID:SchoolNow
CALSCALE:GREGORIAN
BEGIN:VEVENT
UID:c86f44fc-1128-11f1-83d2-0a58a9feac02
DTSTAMP:20260421T150515Z
SUMMARY:Winnie the Pooh Fieldtrip for Tk\, K\, Aranda\, Evans
URL;VALUE=URI:https://www.lahabraschools.org/sierravista/calendar/8867879/w
 innie-the-pooh-fieldtrip-for-tk-k-aranda-evans
DTSTART;VALUE=DATE:20260309
DTEND;VALUE=DATE:20260310
END:VEVENT
END:VCALENDAR
