BEGIN:VCALENDAR
VERSION:2.0
PRODID:SchoolNow
CALSCALE:GREGORIAN
BEGIN:VEVENT
UID:c86f4952-1128-11f1-a3fe-0a58a9feac02
DTSTAMP:20260421T150515Z
SUMMARY:PTA meeting
URL;VALUE=URI:https://www.lahabraschools.org/sierravista/calendar/8867880/p
 ta-meeting
DTSTART:20260325T013000Z
DTEND:20260325T023000Z
END:VEVENT
END:VCALENDAR
