BEGIN:VCALENDAR
VERSION:2.0
PRODID:SchoolNow
CALSCALE:GREGORIAN
BEGIN:VEVENT
UID:c86f4a9c-1128-11f1-b216-0a58a9feac02
DTSTAMP:20260421T150515Z
SUMMARY:Emergency Drill - Fire
URL;VALUE=URI:https://www.lahabraschools.org/sierravista/calendar/8867881/e
 mergency-drill-fire
DTSTART:20260325T201500Z
DTEND:20260325T203000Z
END:VEVENT
END:VCALENDAR
