BEGIN:VCALENDAR
VERSION:2.0
PRODID:SchoolNow
CALSCALE:GREGORIAN
BEGIN:VEVENT
UID:b9b9d190-11c1-11f1-a921-0e08cf99caa7
DTSTAMP:20260421T150515Z
SUMMARY:Spring Fundraiser Ends
URL;VALUE=URI:https://www.lahabraschools.org/sierravista/calendar/8869269/s
 pring-fundraiser-ends
DTSTART;VALUE=DATE:20260410
DTEND;VALUE=DATE:20260411
END:VEVENT
END:VCALENDAR
