BEGIN:VCALENDAR
VERSION:2.0
PRODID:SchoolNow
CALSCALE:GREGORIAN
BEGIN:VEVENT
UID:b3d31794-1227-11f1-9fe6-02e671701561
DTSTAMP:20260421T150515Z
SUMMARY:PTA Movie Night
URL;VALUE=URI:https://www.lahabraschools.org/sierravista/calendar/8870160/p
 ta-movie-night
DTSTART;VALUE=DATE:20260424
DTEND;VALUE=DATE:20260425
END:VEVENT
END:VCALENDAR
